BEGIN:VCALENDAR
CALSCALE:GREGORIAN
BEGIN:VEVENT
DTSTAMP:20231223T013044Z
DTSTART:20231005T013000Z
DTEND:20231005T023000Z
SUMMARY:Jew Curious\; Hot Topics in Judaism
UID:5bd01825-1b6e-491b-a1fc-15c2dfc793eb
LOCATION:
X-ALT-DESC;FMTTYPE=text/html:
END:VEVENT
END:VCALENDAR
