BEGIN:VCALENDAR
CALSCALE:GREGORIAN
BEGIN:VEVENT
DTSTAMP:20231223T013255Z
DTSTART:20230527T011500Z
DTEND:20230527T033000Z
SUMMARY:Final Fridays
UID:5ee65c25-a586-440b-a6e2-595e12a1f816
LOCATION:19621 62nd Ct NE\, Kenmore\, WA 98028\, USA
DESCRIPTION:Thank you for registering to our event!\n\nWe're looking forward to seeing you there.\n\nHere are the event details:\n\nFinal Fridays\nMay 26\, 2023\, 6:15 – 8:30 PM PDT\nRabbi Sydney's Home\, 19621 62nd Ct NE\, Kenmore\, WA 98028\, USA
X-ALT-DESC;FMTTYPE=text/html:Thank you for registering to our event!\n\nWe're looking forward to seeing you there.\n\nHere are the event details:<br>Final Fridays\nMay 26\, 2023\, 6:15 – 8:30 PM PDT\nRabbi Sydney's Home\, 19621 62nd Ct NE\, Kenmore\, WA 98028\, USA
END:VEVENT
END:VCALENDAR
