BEGIN:VCALENDAR
CALSCALE:GREGORIAN
BEGIN:VEVENT
DTSTAMP:20231223T013218Z
DTSTART:20231212T030000Z
DTEND:20231212T040000Z
SUMMARY:Mussar Mondays
UID:66740908-cff4-4bf9-9b3e-122f626c4450
LOCATION:
X-ALT-DESC;FMTTYPE=text/html:
END:VEVENT
END:VCALENDAR
