BEGIN:VCALENDAR
CALSCALE:GREGORIAN
BEGIN:VEVENT
DTSTAMP:20231223T013140Z
DTSTART:20231116T023000Z
DTEND:20231116T033000Z
SUMMARY:Jew Curious\; Hot Topics in Judaism
UID:67a1a1c5-bcfe-43a9-a878-944926170ba0
LOCATION:
X-ALT-DESC;FMTTYPE=text/html:
END:VEVENT
END:VCALENDAR
