BEGIN:VCALENDAR
CALSCALE:GREGORIAN
BEGIN:VEVENT
DTSTAMP:20231223T013217Z
DTSTART:20230513T170000Z
DTEND:20230513T183000Z
SUMMARY:Torah\, Torah\, Torah!
UID:688d2f72-5881-4d9f-b8de-0d792c2aff79
LOCATION:
DESCRIPTION:Thank you for registering to our event!\n\nWe're looking forward to seeing you there.\n\nHere are the event details:\n\nTorah\, Torah\, Torah!\nMay 13\, 2023\, 10:00 – 11:30 AM\nZoom
X-ALT-DESC;FMTTYPE=text/html:Thank you for registering to our event!\n\nWe're looking forward to seeing you there.\n\nHere are the event details:<br>Torah\, Torah\, Torah!\nMay 13\, 2023\, 10:00 – 11:30 AM\nZoom
END:VEVENT
END:VCALENDAR
