BEGIN:VCALENDAR
CALSCALE:GREGORIAN
BEGIN:VEVENT
DTSTAMP:20231223T013131Z
DTSTART:20230330T010000Z
DTEND:20230330T023000Z
SUMMARY:Jew Curious? Judaism 101
UID:6156a91c-2174-40eb-9311-0128b8fabd75
LOCATION:
DESCRIPTION:Thank you for registering to our event!\n\nWe're looking forward to seeing you there.\n\nHere are the event details:\n\nJew Curious? Judaism 101\nMarch 29\, 2023\, 6:00 – 7:30 PM PDT\nZoom
X-ALT-DESC;FMTTYPE=text/html:Thank you for registering to our event!\n\nWe're looking forward to seeing you there.\n\nHere are the event details:<br>Jew Curious? Judaism 101\nMarch 29\, 2023\, 6:00 – 7:30 PM PDT\nZoom
END:VEVENT
END:VCALENDAR
