BEGIN:VCALENDAR
CALSCALE:GREGORIAN
BEGIN:VEVENT
DTSTAMP:20231223T013216Z
DTSTART:20230624T170000Z
DTEND:20230624T183000Z
SUMMARY:Torah\, Torah\, Torah!
UID:61613263-d8f0-42d0-8f35-f9815b418842
LOCATION:
DESCRIPTION:Thank you for registering to our event!\n\nWe're looking forward to seeing you there.\n\nHere are the event details:\n\nTorah\, Torah\, Torah!\nJune 24\, 2023\, 10:00 – 11:30 AM\nZoom
X-ALT-DESC;FMTTYPE=text/html:Thank you for registering to our event!\n\nWe're looking forward to seeing you there.\n\nHere are the event details:<br>Torah\, Torah\, Torah!\nJune 24\, 2023\, 10:00 – 11:30 AM\nZoom
END:VEVENT
END:VCALENDAR
