BEGIN:VCALENDAR
CALSCALE:GREGORIAN
BEGIN:VEVENT
DTSTAMP:20231223T013125Z
DTSTART:20240211T180000Z
DTEND:20240211T200000Z
SUMMARY:Shabbat Spiritual Refueling
UID:63c19de4-208e-4cb4-aa15-cefe4e55f193
LOCATION:232 Front St N\, Issaquah\, WA 98027\, USA
DESCRIPTION:Thank you for registering to our event!\n\nWe're looking forward to seeing you there.\n\nHere are the event details:\n\nShabbat Spiritual Refueling\nFebruary 11\, 2024\, 10:00 AM – 12:00 PM\nIssaquah\, 232 Front St N\, Issaquah\, WA 98027\, USA
X-ALT-DESC;FMTTYPE=text/html:Thank you for registering to our event!\n\nWe're looking forward to seeing you there.\n\nHere are the event details:<br>Shabbat Spiritual Refueling\nFebruary 11\, 2024\, 10:00 AM – 12:00 PM\nIssaquah\, 232 Front St N\, Issaquah\, WA 98027\, USA
END:VEVENT
END:VCALENDAR
