BEGIN:VCALENDAR
CALSCALE:GREGORIAN
BEGIN:VEVENT
DTSTAMP:20231223T013200Z
DTSTART:20231125T023000Z
DTEND:20231125T043000Z
SUMMARY:Final Fridays
UID:6a081f23-3d5f-4014-9152-309bda026969
DESCRIPTION:Thank you for registering to our event!\n\nWe're looking forward to seeing you there.\n\nHere are the event details:\n\nFinal Fridays\nNovember 24\, 2023\, 6:30 – 8:30 PM PST\nLocation is TBD
X-ALT-DESC;FMTTYPE=text/html:Thank you for registering to our event!\n\nWe're looking forward to seeing you there.\n\nHere are the event details:<br>Final Fridays\nNovember 24\, 2023\, 6:30 – 8:30 PM PST\nLocation is TBD
END:VEVENT
END:VCALENDAR
