BEGIN:VCALENDAR
CALSCALE:GREGORIAN
BEGIN:VEVENT
DTSTAMP:20231223T013116Z
DTSTART:20230422T170000Z
DTEND:20230422T183000Z
SUMMARY:Torah\; From cover to cover
UID:6d509223-aad5-4247-aed8-6854a5f49646
LOCATION:
DESCRIPTION:Thank you for registering to our event!\n\nWe're looking forward to seeing you there.\n\nHere are the event details:\n\nTorah\; From cover to cover\nApril 22\, 2023\, 10:00 – 11:30 AM\nZoom
X-ALT-DESC;FMTTYPE=text/html:Thank you for registering to our event!\n\nWe're looking forward to seeing you there.\n\nHere are the event details:<br>Torah\; From cover to cover\nApril 22\, 2023\, 10:00 – 11:30 AM\nZoom
END:VEVENT
END:VCALENDAR
