BEGIN:VCALENDAR
CALSCALE:GREGORIAN
BEGIN:VEVENT
DTSTAMP:20231223T013206Z
DTSTART:20231205T030000Z
DTEND:20231205T040000Z
SUMMARY:Mussar Mondays
UID:6d631bee-6b8a-4ad7-af55-b1f0ca1eac3c
LOCATION:
X-ALT-DESC;FMTTYPE=text/html:
END:VEVENT
END:VCALENDAR
