BEGIN:VCALENDAR
CALSCALE:GREGORIAN
BEGIN:VEVENT
DTSTAMP:20231223T013224Z
DTSTART:20230916T013000Z
DTEND:20230916T230000Z
SUMMARY:Rosh Hashanah--The Birthday of the World
UID:6df85f1f-29be-44f7-b124-95777cbb4a53
LOCATION:3800 Lake Washington Blvd S\, Seattle\, WA 98118\, USA
X-ALT-DESC;FMTTYPE=text/html:
END:VEVENT
END:VCALENDAR
