BEGIN:VCALENDAR
CALSCALE:GREGORIAN
BEGIN:VEVENT
DTSTAMP:20231223T013243Z
DTSTART:20231019T013000Z
DTEND:20231019T023000Z
SUMMARY:Jew Curious\; Hot Topics in Judaism
UID:6fe4a961-fcd7-4a47-acac-fb1d0f127728
LOCATION:
X-ALT-DESC;FMTTYPE=text/html:
END:VEVENT
END:VCALENDAR
