BEGIN:VCALENDAR
CALSCALE:GREGORIAN
BEGIN:VEVENT
DTSTAMP:20231223T013148Z
DTSTART:20230727T010000Z
DTEND:20230727T023000Z
SUMMARY:Jew Curious\; Hot Topics in Judaism
UID:74f0a72f-8bc4-4759-b7ae-843f2218886e
LOCATION:
DESCRIPTION:Thank you for registering to our event!\n\nWe're looking forward to seeing you there.\n\nHere are the event details:\n\nJew Curious\; Hot Topics in Judaism\nJuly 26\, 2023\, 6:00 – 7:30 PM\nZoom
X-ALT-DESC;FMTTYPE=text/html:Thank you for registering to our event!\n\nWe're looking forward to seeing you there.\n\nHere are the event details:<br>Jew Curious\; Hot Topics in Judaism\nJuly 26\, 2023\, 6:00 – 7:30 PM\nZoom
END:VEVENT
END:VCALENDAR
