BEGIN:VCALENDAR
CALSCALE:GREGORIAN
BEGIN:VEVENT
DTSTAMP:20231223T013142Z
DTSTART:20230411T020000Z
DTEND:20230412T020000Z
SUMMARY:Mussar Mondays
UID:7abe6564-597d-4350-b865-89127475c67d
LOCATION:
DESCRIPTION:Thank you for registering to our event! Your tickets are attached to this email. Don't forget to bring them.\n\nWe're looking forward to seeing you there.\n\nHere are the details:\n\nMussar Mondays\nApril 10\, 2023 at 7:00 PM – April 11\, 2023 at 7:00 PM PDT\nZoom
X-ALT-DESC;FMTTYPE=text/html:Thank you for registering to our event! Your tickets are attached to this email. Don't forget to bring them.\n\nWe're looking forward to seeing you there.\n\nHere are the details:<br>Mussar Mondays\nApril 10\, 2023 at 7:00 PM – April 11\, 2023 at 7:00 PM PDT\nZoom
END:VEVENT
END:VCALENDAR
