BEGIN:VCALENDAR
CALSCALE:GREGORIAN
BEGIN:VEVENT
DTSTAMP:20231223T013112Z
DTSTART:20231021T163000Z
DTEND:20231021T173000Z
SUMMARY:Torah-From Cover to Cover
UID:7b6652b3-3250-4ed5-9a1c-b01bef4229c8
LOCATION:
X-ALT-DESC;FMTTYPE=text/html:
END:VEVENT
END:VCALENDAR
