BEGIN:VCALENDAR
CALSCALE:GREGORIAN
BEGIN:VEVENT
DTSTAMP:20231223T013143Z
DTSTART:20230704T020000Z
DTEND:20230705T020000Z
SUMMARY:Mussar Mondays
UID:7bf3b34f-224a-42c0-a102-3927213dadb5
LOCATION:
DESCRIPTION:Thank you for registering to our event! Your tickets are attached to this email. Don't forget to bring them.\n\nWe're looking forward to seeing you there.\n\nHere are the details:\n\nMussar Mondays\nJuly 3\, 2023 at 7:00 PM – July 4\, 2023 at 7:00 PM PDT\nZoom
X-ALT-DESC;FMTTYPE=text/html:Thank you for registering to our event! Your tickets are attached to this email. Don't forget to bring them.\n\nWe're looking forward to seeing you there.\n\nHere are the details:<br>Mussar Mondays\nJuly 3\, 2023 at 7:00 PM – July 4\, 2023 at 7:00 PM PDT\nZoom
END:VEVENT
END:VCALENDAR
