BEGIN:VCALENDAR
CALSCALE:GREGORIAN
BEGIN:VEVENT
DTSTAMP:20231223T013217Z
DTSTART:20230309T023000Z
DTEND:20230309T040000Z
SUMMARY:Jew Curious? Judaism 101 for those looking to learn more about Judaism or seeking conversion
UID:7d3ebd13-da2b-4400-bf52-e1657039ea14
LOCATION:
DESCRIPTION:Thank you for registering to our event! Your tickets are attached to this email. Don't forget to bring them.\n\nWe're looking forward to seeing you there.\n\nHere are the details:\n\nJew Curious? Judaism 101 for those looking to learn more about Judaism or seeking conversion\nMarch 8\, 2023\, 6:30 – 8:00 PM PST\nZoom
X-ALT-DESC;FMTTYPE=text/html:Thank you for registering to our event! Your tickets are attached to this email. Don't forget to bring them.\n\nWe're looking forward to seeing you there.\n\nHere are the details:<br>Jew Curious? Judaism 101 for those looking to learn more about Judaism or seeking conversion\nMarch 8\, 2023\, 6:30 – 8:00 PM PST\nZoom
END:VEVENT
END:VCALENDAR
