BEGIN:VCALENDAR
CALSCALE:GREGORIAN
BEGIN:VEVENT
DTSTAMP:20231223T013212Z
DTSTART:20231130T023000Z
DTEND:20231130T033000Z
SUMMARY:Jew Curious-Hot Topics in Judaism: Chanukah: A Story of Jewish Unity or Division
UID:7d04f75e-e70d-401a-8e05-dac5d4c00e65
LOCATION:
X-ALT-DESC;FMTTYPE=text/html:
END:VEVENT
END:VCALENDAR
