BEGIN:VCALENDAR
CALSCALE:GREGORIAN
BEGIN:VEVENT
DTSTAMP:20231223T013038Z
DTSTART:20231026T013000Z
DTEND:20231026T023000Z
SUMMARY:Jew Curious\; Hot Topics in Judaism
UID:7db83fb6-c4f4-4aa7-998c-deb901a4ce66
LOCATION:
X-ALT-DESC;FMTTYPE=text/html:
END:VEVENT
END:VCALENDAR
