BEGIN:VCALENDAR
CALSCALE:GREGORIAN
BEGIN:VEVENT
DTSTAMP:20231223T013220Z
DTSTART:20230608T013000Z
DTEND:20230608T030000Z
SUMMARY:Jew Curious? Judaism 101 for those looking to learn more about Judaism or seeking conversion
UID:7f57cf2b-dca5-4f91-af14-66f182f4c912
LOCATION:
DESCRIPTION:Thank you for registering to our event! Your tickets are attached to this email. Don't forget to bring them.\n\nWe're looking forward to seeing you there.\n\nHere are the details:\n\nJew Curious? Judaism 101 for those looking to learn more about Judaism or seeking conversion\nJune 7\, 2023\, 6:30 – 8:00 PM PDT\nZoom
X-ALT-DESC;FMTTYPE=text/html:Thank you for registering to our event! Your tickets are attached to this email. Don't forget to bring them.\n\nWe're looking forward to seeing you there.\n\nHere are the details:<br>Jew Curious? Judaism 101 for those looking to learn more about Judaism or seeking conversion\nJune 7\, 2023\, 6:30 – 8:00 PM PDT\nZoom
END:VEVENT
END:VCALENDAR
