BEGIN:VCALENDAR
CALSCALE:GREGORIAN
BEGIN:VEVENT
DTSTAMP:20231223T013232Z
DTSTART:20230530T020000Z
DTEND:20230531T020000Z
SUMMARY:Mussar Mondays
UID:86669bdc-5b03-4a54-abd6-2f591f0697a5
LOCATION:
DESCRIPTION:Thank you for registering to our event! Your tickets are attached to this email. Don't forget to bring them.\n\nWe're looking forward to seeing you there.\n\nHere are the details:\n\nMussar Mondays\nMay 29\, 2023 at 7:00 PM – May 30\, 2023 at 7:00 PM PDT\nZoom
X-ALT-DESC;FMTTYPE=text/html:Thank you for registering to our event! Your tickets are attached to this email. Don't forget to bring them.\n\nWe're looking forward to seeing you there.\n\nHere are the details:<br>Mussar Mondays\nMay 29\, 2023 at 7:00 PM – May 30\, 2023 at 7:00 PM PDT\nZoom
END:VEVENT
END:VCALENDAR
