BEGIN:VCALENDAR
CALSCALE:GREGORIAN
BEGIN:VEVENT
DTSTAMP:20231223T013151Z
DTSTART:20230527T170000Z
DTEND:20230527T183000Z
SUMMARY:Torah from Cover to Cover
UID:87caccb1-925a-404a-89e0-0553859501ee
LOCATION:
DESCRIPTION:Thank you for registering to our event!\n\nWe're looking forward to seeing you there.\n\nHere are the event details:\n\nTorah from Cover to Cover\nMay 27\, 2023\, 10:00 – 11:30 AM\nZoom
X-ALT-DESC;FMTTYPE=text/html:Thank you for registering to our event!\n\nWe're looking forward to seeing you there.\n\nHere are the event details:<br>Torah from Cover to Cover\nMay 27\, 2023\, 10:00 – 11:30 AM\nZoom
END:VEVENT
END:VCALENDAR
