BEGIN:VCALENDAR
CALSCALE:GREGORIAN
BEGIN:VEVENT
DTSTAMP:20231223T013141Z
DTSTART:20231111T180000Z
DTEND:20231111T200000Z
SUMMARY:Shabbat Spiritual Re-Fueling
UID:87bea1aa-476e-4ef0-a9ce-fd310cd1e3e0
LOCATION:Issaquah\, WA 98027\, USA
DESCRIPTION:Thank you for registering to our event!\n\nWe're looking forward to seeing you there.\n\nHere are the event details:\n\nShabbat Spiritual Re-Fueling\nNovember 11\, 2023\, 10:00 AM – 12:00 PM\nIssaquah\, Issaquah\, WA 98027\, USA
X-ALT-DESC;FMTTYPE=text/html:Thank you for registering to our event!\n\nWe're looking forward to seeing you there.\n\nHere are the event details:<br>Shabbat Spiritual Re-Fueling\nNovember 11\, 2023\, 10:00 AM – 12:00 PM\nIssaquah\, Issaquah\, WA 98027\, USA
END:VEVENT
END:VCALENDAR
