BEGIN:VCALENDAR
CALSCALE:GREGORIAN
BEGIN:VEVENT
DTSTAMP:20231223T013251Z
DTSTART:20230401T011500Z
DTEND:20230401T021500Z
SUMMARY:Final Fridays
UID:88142b1f-5b75-4420-a083-20db46ac7951
LOCATION:6728 NE 181st St\, Kenmore\, WA 98028\, USA
DESCRIPTION:Thank you for registering to our event!\n\nWe're looking forward to seeing you there.\n\nHere are the event details:\n\nFinal Fridays\nMarch 31\, 2023\, 6:15 – 7:15 PM PDT\nKenmore\, 6728 NE 181st St\, Kenmore\, WA 98028\, USA
X-ALT-DESC;FMTTYPE=text/html:Thank you for registering to our event!\n\nWe're looking forward to seeing you there.\n\nHere are the event details:<br>Final Fridays\nMarch 31\, 2023\, 6:15 – 7:15 PM PDT\nKenmore\, 6728 NE 181st St\, Kenmore\, WA 98028\, USA
END:VEVENT
END:VCALENDAR
