BEGIN:VCALENDAR
CALSCALE:GREGORIAN
BEGIN:VEVENT
DTSTAMP:20231223T013057Z
DTSTART:20230429T170000Z
DTEND:20230429T183000Z
SUMMARY:Torah\; From cover to cover
UID:89b0c817-480e-4bd4-883e-ea83746eb3be
LOCATION:
DESCRIPTION:Thank you for registering to our event!\n\nWe're looking forward to seeing you there.\n\nHere are the event details:\n\nTorah\; From cover to cover\nApril 29\, 2023\, 10:00 – 11:30 AM\nZoom
X-ALT-DESC;FMTTYPE=text/html:Thank you for registering to our event!\n\nWe're looking forward to seeing you there.\n\nHere are the event details:<br>Torah\; From cover to cover\nApril 29\, 2023\, 10:00 – 11:30 AM\nZoom
END:VEVENT
END:VCALENDAR
