BEGIN:VCALENDAR
CALSCALE:GREGORIAN
BEGIN:VEVENT
DTSTAMP:20231223T013210Z
DTSTART:20231226T160000Z
DTEND:20250104T160000Z
SUMMARY:Masa Seattle "Journeys" to Israel
UID:89bdd8e7-fbca-4073-951f-c3608b5bf260
LOCATION:Israel
DESCRIPTION:Thank you for registering to our event! Your tickets are attached to this email. Don't forget to bring them.\n\nWe're looking forward to seeing you there.\n\nHere are the details:\n\nMasa Seattle "Journeys" to Israel\nDecember 26\, 2023 at 8:00 AM – January 4\, 2025 at 8:00 AM\nTel Aviv\, Israel
X-ALT-DESC;FMTTYPE=text/html:Thank you for registering to our event! Your tickets are attached to this email. Don't forget to bring them.\n\nWe're looking forward to seeing you there.\n\nHere are the details:<br>Masa Seattle "Journeys" to Israel\nDecember 26\, 2023 at 8:00 AM – January 4\, 2025 at 8:00 AM\nTel Aviv\, Israel
END:VEVENT
END:VCALENDAR
