BEGIN:VCALENDAR
CALSCALE:GREGORIAN
BEGIN:VEVENT
DTSTAMP:20231223T013152Z
DTSTART:20230810T010000Z
DTEND:20230810T023000Z
SUMMARY:Jew Curious\; Hot Topics in Judaism
UID:808a12df-01c7-4ce1-9438-72d13f663e3d
LOCATION:
DESCRIPTION:Thank you for registering to our event!\n\nWe're looking forward to seeing you there.\n\nHere are the event details:\n\nJew Curious\; Hot Topics in Judaism\nAugust 9\, 2023\, 6:00 – 7:30 PM\nZoom
X-ALT-DESC;FMTTYPE=text/html:Thank you for registering to our event!\n\nWe're looking forward to seeing you there.\n\nHere are the event details:<br>Jew Curious\; Hot Topics in Judaism\nAugust 9\, 2023\, 6:00 – 7:30 PM\nZoom
END:VEVENT
END:VCALENDAR
