BEGIN:VCALENDAR
CALSCALE:GREGORIAN
BEGIN:VEVENT
DTSTAMP:20231223T013235Z
DTSTART:20230311T173000Z
DTEND:20230311T190000Z
SUMMARY:This too is Torah!
UID:80a31924-05be-482c-bd4b-85cc42393447
LOCATION:
DESCRIPTION:Thank you for registering to our event! Your tickets are attached to this email. Don't forget to bring them.\n\nWe're looking forward to seeing you there.\n\nHere are the details:\n\nThis too is Torah!\nMarch 11\, 2023\, 9:30 – 11:00 AM PST\nZoom
X-ALT-DESC;FMTTYPE=text/html:Thank you for registering to our event! Your tickets are attached to this email. Don't forget to bring them.\n\nWe're looking forward to seeing you there.\n\nHere are the details:<br>This too is Torah!\nMarch 11\, 2023\, 9:30 – 11:00 AM PST\nZoom
END:VEVENT
END:VCALENDAR
