BEGIN:VCALENDAR
CALSCALE:GREGORIAN
BEGIN:VEVENT
DTSTAMP:20231223T013250Z
DTSTART:20230513T011500Z
DTEND:20230513T040000Z
SUMMARY:Shabbat Supper Club: Sha-BBQ!
UID:82186b21-e200-4efc-9e63-7c9b57ca1f03
LOCATION:9703 Juanita Dr NE\, Kirkland\, WA 98034\, USA
DESCRIPTION:Thank you for Sharing-BBQ!\n\nWe're looking forward to seeing you there.\n\nHere are the event details:\n\nShabbat Supper Club: Sha-BBQ!\nMay 12\, 2023\, 6:15 – 9:00 PM\nKirkland\, 9703 Juanita Dr NE\, Kirkland\, WA 98034\, USA
X-ALT-DESC;FMTTYPE=text/html:Thank you for Sharing-BBQ!\n\nWe're looking forward to seeing you there.\n\nHere are the event details:<br>Shabbat Supper Club: Sha-BBQ!\nMay 12\, 2023\, 6:15 – 9:00 PM\nKirkland\, 9703 Juanita Dr NE\, Kirkland\, WA 98034\, USA
END:VEVENT
END:VCALENDAR
