BEGIN:VCALENDAR
CALSCALE:GREGORIAN
BEGIN:VEVENT
DTSTAMP:20231223T011443Z
DTSTART:20231230T173000Z
DTEND:20231230T183000Z
SUMMARY:Torah-From Cover to Cover
UID:82bbe40d-bacf-4b32-9e8c-de5b38034f9f
LOCATION:
X-ALT-DESC;FMTTYPE=text/html:
END:VEVENT
END:VCALENDAR
