BEGIN:VCALENDAR
CALSCALE:GREGORIAN
BEGIN:VEVENT
DTSTAMP:20231223T013132Z
DTSTART:20230304T180000Z
DTEND:20230304T193000Z
SUMMARY:Torah\, From Cover to Cover
UID:830ac0d7-474a-4274-8922-d654daff0648
LOCATION:
DESCRIPTION:Thank you for taking time on your Shabbat morning to study with us. Below are all the details for our online class.\n\nTorah\, From Cover to Cover\nMarch 4\, 2023\, 10:00 – 11:30 AM\nZoom
X-ALT-DESC;FMTTYPE=text/html:Thank you for taking time on your Shabbat morning to study with us. Below are all the details for our online class.<br>Torah\, From Cover to Cover\nMarch 4\, 2023\, 10:00 – 11:30 AM\nZoom
END:VEVENT
END:VCALENDAR
