BEGIN:VCALENDAR
CALSCALE:GREGORIAN
BEGIN:VEVENT
DTSTAMP:20231223T013246Z
DTSTART:20230323T010000Z
DTEND:20230323T023000Z
SUMMARY:Jew Curious? Judaism 101
UID:8b3eb3e9-8ca0-4bd6-901c-6f282c8c40be
LOCATION:
DESCRIPTION:Thank you for registering to our event!\n\nWe're looking forward to seeing you there.\n\nHere are the event details:\n\nJew Curious? Judaism 101\nMarch 22\, 2023\, 6:00 – 7:30 PM PDT\nZoom
X-ALT-DESC;FMTTYPE=text/html:Thank you for registering to our event!\n\nWe're looking forward to seeing you there.\n\nHere are the event details:<br>Jew Curious? Judaism 101\nMarch 22\, 2023\, 6:00 – 7:30 PM PDT\nZoom
END:VEVENT
END:VCALENDAR
