BEGIN:VCALENDAR
CALSCALE:GREGORIAN
BEGIN:VEVENT
DTSTAMP:20231223T013124Z
DTSTART:20230408T170000Z
DTEND:20230408T183000Z
SUMMARY:Torah\; From cover to cover
UID:8bac37a6-2a3a-42b0-9973-6542bec9a275
LOCATION:
DESCRIPTION:Thank you for registering to our event!\n\nWe're looking forward to seeing you there.\n\nHere are the event details:\n\nTorah\; From cover to cover\nApril 8\, 2023\, 10:00 – 11:30 AM\nZoom
X-ALT-DESC;FMTTYPE=text/html:Thank you for registering to our event!\n\nWe're looking forward to seeing you there.\n\nHere are the event details:<br>Torah\; From cover to cover\nApril 8\, 2023\, 10:00 – 11:30 AM\nZoom
END:VEVENT
END:VCALENDAR
