BEGIN:VCALENDAR
CALSCALE:GREGORIAN
BEGIN:VEVENT
DTSTAMP:20231223T013113Z
DTSTART:20230720T013000Z
DTEND:20230720T030000Z
SUMMARY:Jew Curious\; Hot Topics in Judaism
UID:95dac979-dcbd-41a6-80f0-115a76b22179
LOCATION:
X-ALT-DESC;FMTTYPE=text/html:
END:VEVENT
END:VCALENDAR
