BEGIN:VCALENDAR
CALSCALE:GREGORIAN
BEGIN:VEVENT
DTSTAMP:20231223T013054Z
DTSTART:20230729T011500Z
DTEND:20230730T021500Z
SUMMARY:Final Fridays
UID:97772464-d218-4458-9c67-93d1d53337cb
LOCATION:Redmond\, WA\, USA
DESCRIPTION:Thank you for registering to our event!\n\nWe're looking forward to seeing you there.\n\nHere are the event details:\n\nJoin us at Marymoor Park in Redmond WA at 6:15 PM to welcome Shabbat\nWe will gather at the picnic shelter near the velodrome.\nPlease call 206-613-9036 with any questions.\nCan't wait to see you there!\n\nFinal Fridays\nJuly 28\, 2023 at 6:15 PM – July 29\, 2023 at 7:15 PM PDT\nRedmond\, Redmond\, WA\, USA
X-ALT-DESC;FMTTYPE=text/html:Thank you for registering to our event!\n\nWe're looking forward to seeing you there.\n\nHere are the event details:\n\nJoin us at Marymoor Park in Redmond WA at 6:15 PM to welcome Shabbat\nWe will gather at the picnic shelter near the velodrome.\nPlease call 206-613-9036 with any questions.\nCan't wait to see you there!<br>Final Fridays\nJuly 28\, 2023 at 6:15 PM – July 29\, 2023 at 7:15 PM PDT\nRedmond\, Redmond\, WA\, USA
END:VEVENT
END:VCALENDAR
