BEGIN:VCALENDAR
CALSCALE:GREGORIAN
BEGIN:VEVENT
DTSTAMP:20231223T013254Z
DTSTART:20230606T020000Z
DTEND:20230607T020000Z
SUMMARY:Mussar Mondays
UID:99be1702-a440-492f-956b-a548b9cb423d
LOCATION:
DESCRIPTION:Thank you for registering to our event! Your tickets are attached to this email. Don't forget to bring them.\n\nWe're looking forward to seeing you there.\n\nHere are the details:\n\nMussar Mondays\nJune 5\, 2023 at 7:00 PM – June 6\, 2023 at 7:00 PM PDT\nZoom
X-ALT-DESC;FMTTYPE=text/html:Thank you for registering to our event! Your tickets are attached to this email. Don't forget to bring them.\n\nWe're looking forward to seeing you there.\n\nHere are the details:<br>Mussar Mondays\nJune 5\, 2023 at 7:00 PM – June 6\, 2023 at 7:00 PM PDT\nZoom
END:VEVENT
END:VCALENDAR
