BEGIN:VCALENDAR
CALSCALE:GREGORIAN
BEGIN:VEVENT
DTSTAMP:20231223T013135Z
DTSTART:20230831T010000Z
DTEND:20230831T023000Z
SUMMARY:Jew Curious\; Hot Topics in Judaism
UID:928c3f23-9cea-4564-8437-0245bd1cbf57
LOCATION:
DESCRIPTION:Thank you for registering to our event!\n\nWe're looking forward to seeing you there.\n\nHere are the event details:\n\nJew Curious\; Hot Topics in Judaism\nAugust 30\, 2023\, 6:00 – 7:30 PM\nZoom
X-ALT-DESC;FMTTYPE=text/html:Thank you for registering to our event!\n\nWe're looking forward to seeing you there.\n\nHere are the event details:<br>Jew Curious\; Hot Topics in Judaism\nAugust 30\, 2023\, 6:00 – 7:30 PM\nZoom
END:VEVENT
END:VCALENDAR
