BEGIN:VCALENDAR
CALSCALE:GREGORIAN
BEGIN:VEVENT
DTSTAMP:20231223T013114Z
DTSTART:20231123T023000Z
DTEND:20231123T033000Z
SUMMARY:Jew Curious\; Hot Topics in Judaism
UID:9347caab-29a2-4213-8b49-51cc3f8bd215
LOCATION:
X-ALT-DESC;FMTTYPE=text/html:
END:VEVENT
END:VCALENDAR
