BEGIN:VCALENDAR
CALSCALE:GREGORIAN
BEGIN:VEVENT
DTSTAMP:20231223T013057Z
DTSTART:20230702T170000Z
DTEND:20230702T183000Z
SUMMARY:Mini-Mensch Meet-Up
UID:9cb14fe7-75dd-4f7b-8aee-992b90ff5ec8
DESCRIPTION:Thank you for registering for our Mini-Mensch Meet Up!\n\nWe're looking forward to seeing you there.\n\nHere are the event details:\n\nMini-Mensch Meet-Up\nJuly 2\, 2023\, 10:00 – 11:30 AM\nLocation is TBD
X-ALT-DESC;FMTTYPE=text/html:Thank you for registering for our Mini-Mensch Meet Up!\n\nWe're looking forward to seeing you there.\n\nHere are the event details:<br>Mini-Mensch Meet-Up\nJuly 2\, 2023\, 10:00 – 11:30 AM\nLocation is TBD
END:VEVENT
END:VCALENDAR
