BEGIN:VCALENDAR
CALSCALE:GREGORIAN
BEGIN:VEVENT
DTSTAMP:20231223T013043Z
DTSTART:20230716T170000Z
DTEND:20230716T190000Z
SUMMARY:Mini-Mensch Meet-Up
UID:9cf784cd-78e2-4e27-a7ad-2e0d04e04474
LOCATION:Kenmore\, WA\, USA
DESCRIPTION:Thank you for registering for our Mini-Mensch Meet Up!\n\nWe're looking forward to seeing you there.\n\nHere are the event details:\n\nWe will gather at Rhododendron Park in Kenmore at 10 AM for some fun learning about the Jewish value of sharing.\n\nMini-Mensch Meet-Up\nJuly 16\, 2023\, 10:00 AM – 12:00 PM\nKenmore\, Kenmore\, WA\, USA
X-ALT-DESC;FMTTYPE=text/html:Thank you for registering for our Mini-Mensch Meet Up!\n\nWe're looking forward to seeing you there.\n\nHere are the event details:\n\nWe will gather at Rhododendron Park in Kenmore at 10 AM for some fun learning about the Jewish value of sharing.<br>Mini-Mensch Meet-Up\nJuly 16\, 2023\, 10:00 AM – 12:00 PM\nKenmore\, Kenmore\, WA\, USA
END:VEVENT
END:VCALENDAR
