BEGIN:VCALENDAR
CALSCALE:GREGORIAN
BEGIN:VEVENT
DTSTAMP:20231223T013151Z
DTSTART:20230509T020000Z
DTEND:20230510T020000Z
SUMMARY:Mussar Mondays
UID:9d81a71c-aaac-4d1e-89de-457bf50da351
LOCATION:
DESCRIPTION:Thank you for registering to our event! Your tickets are attached to this email. Don't forget to bring them.\n\nWe're looking forward to seeing you there.\n\nHere are the details:\n\nMussar Mondays\nMay 8\, 2023 at 7:00 PM – May 9\, 2023 at 7:00 PM PDT\nZoom
X-ALT-DESC;FMTTYPE=text/html:Thank you for registering to our event! Your tickets are attached to this email. Don't forget to bring them.\n\nWe're looking forward to seeing you there.\n\nHere are the details:<br>Mussar Mondays\nMay 8\, 2023 at 7:00 PM – May 9\, 2023 at 7:00 PM PDT\nZoom
END:VEVENT
END:VCALENDAR
