BEGIN:VCALENDAR
CALSCALE:GREGORIAN
BEGIN:VEVENT
DTSTAMP:20231223T013123Z
DTSTART:20230325T170000Z
DTEND:20230325T183000Z
SUMMARY:Torah\; From cover to cover
UID:9f031cb3-c23c-418a-b9e9-ba95d6bb3444
LOCATION:
DESCRIPTION:Thank you for registering to our event!\n\nWe're looking forward to seeing you there.\n\nHere are the event details:\n\nTorah\; From cover to cover\nMarch 25\, 2023\, 10:00 – 11:30 AM\nZoom
X-ALT-DESC;FMTTYPE=text/html:Thank you for registering to our event!\n\nWe're looking forward to seeing you there.\n\nHere are the event details:<br>Torah\; From cover to cover\nMarch 25\, 2023\, 10:00 – 11:30 AM\nZoom
END:VEVENT
END:VCALENDAR
