BEGIN:VCALENDAR
CALSCALE:GREGORIAN
BEGIN:VEVENT
DTSTAMP:20231223T013202Z
DTSTART:20231102T013000Z
DTEND:20231102T023000Z
SUMMARY:Jew Curious\; Hot Topics in Judaism
UID:9f80df14-8bd1-45d0-909b-c13e2d95b9a2
LOCATION:
X-ALT-DESC;FMTTYPE=text/html:
END:VEVENT
END:VCALENDAR
