BEGIN:VCALENDAR
CALSCALE:GREGORIAN
BEGIN:VEVENT
DTSTAMP:20231223T013154Z
DTSTART:20231211T000000Z
DTEND:20231211T020000Z
SUMMARY:Chanukah on Ice
UID:a8bc8139-1315-41b8-8c44-d016bf94822c
LOCATION:10601 5th Ave NE\, Seattle\, WA 98125\, USA
DESCRIPTION:Thank you for registering to our event!\n\nWe're looking forward to seeing you there.\n\nHere are the event details:\n\nChanukah on Ice\nDecember 10\, 2023\, 4:00 – 6:00 PM PST\nSeattle\, 10601 5th Ave NE\, Seattle\, WA 98125\, USA
X-ALT-DESC;FMTTYPE=text/html:Thank you for registering to our event!\n\nWe're looking forward to seeing you there.\n\nHere are the event details:<br>Chanukah on Ice\nDecember 10\, 2023\, 4:00 – 6:00 PM PST\nSeattle\, 10601 5th Ave NE\, Seattle\, WA 98125\, USA
END:VEVENT
END:VCALENDAR
