BEGIN:VCALENDAR
CALSCALE:GREGORIAN
BEGIN:VEVENT
DTSTAMP:20231223T013208Z
DTSTART:20231121T030000Z
DTEND:20231121T040000Z
SUMMARY:Mussar Mondays
UID:a05fd0e6-2acb-418d-bdd4-c314ee98d174
LOCATION:
X-ALT-DESC;FMTTYPE=text/html:
END:VEVENT
END:VCALENDAR
