BEGIN:VCALENDAR
CALSCALE:GREGORIAN
BEGIN:VEVENT
DTSTAMP:20231223T013134Z
DTSTART:20230611T170000Z
DTEND:20230611T183000Z
SUMMARY:Mini-Mensch Meet-Up
UID:a0d2e401-ad63-4ac9-88f4-d3725ec72a29
DESCRIPTION:Thank you for registering for our Mini-Mensch Meet Up!\n\nWe're looking forward to seeing you there.\n\nHere are the event details:\n\nMini-Mensch Meet-Up\nJune 11\, 2023\, 10:00 – 11:30 AM\nLocation is TBD
X-ALT-DESC;FMTTYPE=text/html:Thank you for registering for our Mini-Mensch Meet Up!\n\nWe're looking forward to seeing you there.\n\nHere are the event details:<br>Mini-Mensch Meet-Up\nJune 11\, 2023\, 10:00 – 11:30 AM\nLocation is TBD
END:VEVENT
END:VCALENDAR
