BEGIN:VCALENDAR
CALSCALE:GREGORIAN
BEGIN:VEVENT
DTSTAMP:20231223T013128Z
DTSTART:20230928T013000Z
DTEND:20230928T023000Z
SUMMARY:Jew Curious\; Hot Topics in Judaism
UID:a16b62aa-bc0e-4f91-88f7-6f571f8719cd
LOCATION:
X-ALT-DESC;FMTTYPE=text/html:
END:VEVENT
END:VCALENDAR
