BEGIN:VCALENDAR
CALSCALE:GREGORIAN
BEGIN:VEVENT
DTSTAMP:20231223T013146Z
DTSTART:20230506T170000Z
DTEND:20230506T183000Z
SUMMARY:Torah\; From cover to cover
UID:ad522e1b-05c6-4172-8c09-70b2776cf96b
LOCATION:
DESCRIPTION:Thank you for registering to our event!\n\nWe're looking forward to seeing you there.\n\nHere are the event details:\n\nTorah\; From cover to cover\nMay 6\, 2023\, 10:00 – 11:30 AM\nZoom
X-ALT-DESC;FMTTYPE=text/html:Thank you for registering to our event!\n\nWe're looking forward to seeing you there.\n\nHere are the event details:<br>Torah\; From cover to cover\nMay 6\, 2023\, 10:00 – 11:30 AM\nZoom
END:VEVENT
END:VCALENDAR
