BEGIN:VCALENDAR
CALSCALE:GREGORIAN
BEGIN:VEVENT
DTSTAMP:20231223T013155Z
DTSTART:20231003T013000Z
DTEND:20231003T023000Z
SUMMARY:Musar Mondays
UID:ad93c1e8-833e-40d9-a61c-673298861de0
LOCATION:
X-ALT-DESC;FMTTYPE=text/html:
END:VEVENT
END:VCALENDAR
